Workbook

Sheet 入力シート
A1: 様式第3号（第7条関係）
A3: 吉賀町農業水利施設電気料金高騰緊急対策事業補助金申請額計算表
A5: 団 体 名
A6: 代 表 者 名
A7: 施 設 名
A8: 契 約 種 別 | B8: 農事用電力Ａ
A9: 契約電力（ｋｗ） | I9: ｋｗ
A10: 力 率（％） | I10: ％
A11: 計算表
A12: 電気料金種別 | C12: 令和６年 | F12: 令和７年 | O12: 計
C13: １０月 | D13: １１月 | E13: １２月 | F13: １月 | G13: ２月 | H13: ３月 | I13: ４月 | J13: ５月 | K13: ６月 | L13: ７月 | M13: ８月 | N13: ９月
A14: 使用電力量 | O14: =SUM(C14:N15) -> 0
A15: （ｋｗｈ）
A16: 基本料金高騰分 | C16: =(1-(B10-85)/100)*単価表!S3*B9 -> 0 | D16: =(1-(B10-85)/100)*単価表!S3*B9 -> 0 | E16: =(1-(B10-85)/100)*単価表!S3*B9 -> 0 | F16: =(1-(B10-85)/100)*単価表!S3*B9 -> 0 | G16: =(1-(B10-85)/100)*単価表!S3*B9 -> 0 | H16: =(1-(B10-85)/100)*単価表!S3*B9 -> 0 | I16: =(1-(B10-85)/100)*単価表!S3*B9 -> 0 | J16: =(1-(B10-85)/100)*単価表!S3*B9 -> 0 | K16: =(1-(B10-85)/100)*単価表!S3*B9 -> 0 | L16: =(1-(B10-85)/100)*単価表!S3*B9 -> 0 | M16: =(1-(B10-85)/100)*単価表!S3*B9 -> 0 | N16: =(1-(B10-85)/100)*単価表!S3*B9 -> 0 | O16: =SUM(C16:N17) -> 0
A17: （円）
A18: 電力量料金高騰分 | C18: =単価表!S14*C14 -> 0 | D18: =単価表!S14*D14 -> 0 | E18: =単価表!S14*E14 -> 0 | F18: =単価表!S14*F14 -> 0 | G18: =単価表!S14*G14 -> 0 | H18: =単価表!S14*H14 -> 0 | I18: =単価表!S14*I14 -> 0 | J18: =単価表!S14*J14 -> 0 | K18: =単価表!S14*K14 -> 0 | L18: =単価表!S14*L14 -> 0 | M18: =単価表!S14*M14 -> 0 | N18: =単価表!S14*N14 -> 0 | O18: =SUM(C18:N19) -> 0
A19: （円）
A20: 燃料費調整額高騰分 | C20: =単価表!S26*C14 -> 0 | D20: =単価表!S26*D14 -> 0 | E20: =単価表!S26*E14 -> 0 | F20: =単価表!S26*F14 -> 0 | G20: =単価表!S26*G14 -> 0 | H20: =単価表!S26*H14 -> 0 | I20: =単価表!S26*I14 -> 0 | J20: =単価表!S26*J14 -> 0 | K20: =単価表!S26*K14 -> 0 | L20: =単価表!S26*L14 -> 0 | M20: =単価表!S26*M14 -> 0 | N20: =単価表!S26*N14 -> 0 | O20: =SUM(C20:N21) -> 0
A21: （円）
A22: 電気料金高騰分 | C22: =C16+C18+C20 -> 0 | D22: =D16+D18+D20 -> 0 | E22: =E16+E18+E20 -> 0 | F22: =F16+F18+F20 -> 0 | G22: =G16+G18+G20 -> 0 | H22: =H16+H18+H20 -> 0 | I22: =I16+I18+I20 -> 0 | J22: =J16+J18+J20 -> 0 | ... N22: =N16+N18+N20 -> 0 | O22: =SUM(C22:N24) -> 0
A23: （円）
O24: ・・・（Ａ）
A26: ※請求書の発行は翌月となるので、１０月の欄には１１月発行の電気量を転記すること。（以下同様）
A29: 電気料金高騰分計（円） | E29: その他補助金（円） | I29: 交付申請額（円）
A30: ・・・（Ａ） | E30: ・・・（Ｂ） | I30: ・・・｛（Ａ）－（Ｂ）｝の７／１０
A31: =ROUNDDOWN(O22,0) -> 0 | I31: =ROUNDDOWN(P32,-3) -> 0
P32: =A31*7/10 -> 0
L34: ※１，０００円未満切捨て

Sheet 単価表
A1: 中国電力単価表 | D1: 【農事用電力A】 | I1: 単位：円 | S1: 少数第2位まで
A2: 基本料金 | B2: 種別 | C2: 月 | D2: 4 | E2: 5 | F2: 6 | G2: 7 | H2: 8 | I2: 9 | J2: 10 | K2: 11 | L2: 12 | M2: 1 | N2: 2 | O2: 3 | P2: 単年平均 | Q2: R3～R4平均 | R2: R7平均－（R3～R4平均） | S2: 切捨て
B3: 農事用電力A（低圧） | C3: R2 | D3: 770 | E3: 770 | F3: 770 | G3: 770 | H3: 770 | I3: 770 | P3: =SUM(D3:I3)/6 -> 770 | Q3: =(P4+P5)/2 -> 770 | R3: =P8-Q3 -> 69.97 | S3: =ROUNDDOWN(R3,2) -> 69.97
C4: R3 | D4: 770 | E4: 770 | F4: 770 | G4: 770 | H4: 770 | I4: 770 | J4: 770 | K4: 770 | L4: 770 | M4: 770 | N4: 770 | O4: 770 | P4: =SUM(J4:O4)/6 -> 770
C5: R4 | D5: 770 | E5: 770 | F5: 770 | G5: 770 | H5: 770 | I5: 770 | P5: =SUM(D5:I5)/6 -> 770
C6: R5 | D6: 862.4 | E6: 862.4 | F6: 823.9 | G6: 823.9 | H6: 823.9 | I6: 823.9 | P6: =SUM(D6:I6)/6 -> 836.73333
C7: R6 | D7: 839.97 | E7: 839.97 | F7: 839.97 | G7: 839.97 | H7: 839.97 | I7: 839.97 | J7: 839.97 | K7: 839.97 | L7: 839.97 | M7: 839.97 | N7: 839.97 | O7: 839.97 | P7: =SUM(J7:O7)/6 -> 839.97
C8: R7 | D8: 839.97 | E8: 839.97 | F8: 839.97 | G8: 839.97 | H8: 839.97 | I8: 839.97 | P8: =SUM(D8:I8)/6 -> 839.97
G12: ※夏季単価（７～９月） | S12: 少数第2位まで
A13: 電力量料金 | B13: 種別 | C13: 月 | D13: 4 | E13: 5 | F13: 6 | G13: 7 | H13: 8 | I13: 9 | J13: 10 | K13: 11 | L13: 12 | M13: 1 | N13: 2 | O13: 3 | P13: 単年平均 | Q13: R3～R4平均 | R13: R7平均－（R3～R4平均） | S13: 切捨て
B14: 農事用電力A（低圧） | C14: R2 | D14: 9.92 | E14: 9.92 | F14: 9.92 | G14: 10.85 | H14: 10.85 | I14: 10.85 | P14: =SUM(D14:I14)/6 -> 10.385 | Q14: =(P15+P16)/2 -> 10.1225 | R14: =P21-Q14 -> 11.79 | S14: =ROUNDDOWN(R14,2) -> 11.79
C15: R3 | D15: 9.89 | E15: 9.89 | F15: 9.89 | G15: 10.82 | H15: 10.82 | I15: 10.82 | J15: 9.89 | K15: 9.89 | L15: 9.89 | M15: 9.89 | N15: 9.89 | O15: 9.89 | P15: =SUM(J15:O15)/6 -> 9.89
C16: R4 | D16: 9.89 | E16: 9.89 | F16: 9.89 | G16: 10.82 | H16: 10.82 | I16: 10.82 | P16: =SUM(D16:I16)/6 -> 10.355
C17: R5 | D17: 10.49 | E17: 10.49 | F17: 21.86 | G17: 22.79 | H17: 22.79 | I17: 22.79 | P17: =SUM(D17:I17)/6 -> 18.535
C18: R6 | D18: 21.68 | E18: 21.68 | F18: 21.68 | G18: 22.61 | H18: 22.61 | I18: 22.61 | J18: 21.68 | K18: 21.68 | L18: 21.68 | M18: 21.68 | N18: 21.68 | O18: 21.68 | P18: =SUM(J18:O18)/6 -> 21.68
C19: R7 | D19: 21.68 | E19: 21.68 | F19: 21.68 | G19: 22.61 | H19: 22.61 | I19: 22.61 | P19: =SUM(D19:I19)/6 -> 22.145
P21: =(P19+P18)/2 -> 21.9125
S24: 少数第2位まで
A25: 燃料費調整額 | B25: 種別 | C25: 月 | D25: 4 | E25: 5 | F25: 6 | G25: 7 | H25: 8 | I25: 9 | J25: 10 | K25: 11 | L25: 12 | M25: 1 | N25: 2 | O25: 3 | P25: 単年平均 | Q25: R3～R4平均 | R25: R7平均－（R3～R4平均） | S25: 切捨て
B26: 農事用電力A（低圧） | C26: R2 | D26: -0.44 | E26: -0.44 | F26: -0.54 | G26: -0.83 | H26: -1.27 | I26: -1.76 | P26: =SUM(D26:I26)/6 -> -0.88 | Q26: =(P27+P28)/2 -> 2.3458333 | R26: =P33-(-Q26) -> -7.8216667 | S26: =ROUNDDOWN(R26,2) -> -7.82
C27: R3 | D27: -2.06 | E27: -1.64 | F27: -1.3 | G27: -0.96 | H27: -0.74 | I27: -0.34 | J27: 0.07 | K27: 0.59 | L27: 1.05 | M27: 1.59 | N27: 2.52 | O27: 3.19 | P27: =SUM(J27:O27)/6 -> 1.5016667
C28: R4 | D28: 3.19 | E28: 3.19 | F28: 3.19 | G28: 3.19 | H28: 3.19 | I28: 3.19 | P28: =SUM(D28:I28)/6 -> 3.19
C29: R5 | D29: -3.81 | E29: -3.81 | F29: -3.81 | G29: 10.04 | H29: -11.4 | I29: -12.71 | P29: =SUM(D29:I29)/6 -> -4.25
C30: R6 | D30: -11.3 | E30: -11.41 | F30: -9.86 | G30: -8.12 | H30: -8.25 | I30: -12.19 | J30: -12.13 | K30: -10.69 | L30: -8.44 | M30: -8.67 | N30: -11.17 | O30: -11.03 | P30: =SUM(D30:I30)/6 -> -10.188333
C31: R7 | D31: -9.7 | E31: -8.54 | F31: -8.84 | G31: -9.39 | H31: -11.85 | I31: -12.56 | P31: =SUM(D31:I31)/6 -> -10.146667
P33: =(P31+P30)/2 -> -10.1675

Sheet 計算式
A1: 申請額の計算
A3: １．基本料金高騰分（農事用電力Ａ（低圧）)
B5: 基本料金高騰分＝契約電力（kw）×（１－（力率（％）－８５)／１００）×（Ｒ７－（Ｒ３～Ｒ４の単価の平均）（円/kwh））
A7: ２．電力量料金高騰分
B9: 電力量料金高騰分＝（Ｒ７－（Ｒ３～Ｒ４単価の平均（円／kwh））×使用電力量（kwh）
A11: ３．燃料費調整額高騰分
B13: 燃料費調整額高騰分＝（Ｒ７－（Ｒ３～Ｒ４単価の平均（円／kwh））×使用電力量（kwh）
A15: ４．電気料金高騰分計
B17: （Ａ）電気料金高騰分計＝基本料金高騰分＋電力量料金高騰分＋燃料費調整額高騰分
A19: ５．交付申請額
B21: （Ｅ）交付申請額＝（（Ａ）電気料金高騰分計－他補助金）×７／１０
A24: 契約種別の選択
B26: 契約種別
B28: 農事用電力Ａ（低圧） | D28: ※左記に記載の契約種別以外の場合は、別途協議すること。
